BEGIN:VCALENDAR
VERSION:2.0
PRODID:-//eventon.com NONSGML v1.0//EN
CALSCALE:GREGORIAN
METHOD:PUBLISH
BEGIN:VEVENT
UID:69eb0eb7d361f
DTSTAMP:20260424T063327Z
DTSTART:20260425T160000Z
DTEND:20260425T200000Z
LOCATION:SawMill Field for Schooling 750 Gallaher Rd\,  Elkton\,  MD
SUMMARY:Cross Country Schooling April Saturday 2026
DESCRIPTION:Novice\,  Beginner Novice\,  Starter\,  Elementary levels All d
 etails for Cross Country Schooling\,  including how to sign up\,  can be fo
 und on the Cross Country Schoolings page\nhttps://fairhillinternational.org
 /events/cross-country-schooling-april-saturday-2026/
URL:https://fairhillinternational.org/events/cross-country-schooling-april-saturday-2026/
END:VEVENT
END:VCALENDAR